BEGIN:VCALENDAR
PRODID:-//eluceo/ical//2.0/EN
VERSION:2.0
CALSCALE:GREGORIAN
BEGIN:VEVENT
UID:7730d3c0cc3f3e386b8c77df2fd3fd43
DTSTAMP:20260421T133902Z
SUMMARY:Ko Puanga rāua ko Matariki - Waitī
DESCRIPTION:Description:\nA community event held each year that navigates t
 he Maramataka (Māori lunar calendar) and honours Te Tau Hou Māori beginn
 ing of the year.\nUp to 1000 people from all across our community within A
 wakairangi district attended at different times. Normally a 2-3-day event 
 called\, Ko Pūanga rāua ko Matariki – Waitī (2026).\nWe start the eve
 nt at 6am on Pito One beach opposite Cuba Street\, close to the two oars. 
 There will be karakia\, fire\, poi and to point out the moon in Tangaroa\,
  pūrākau. Parakuihi at Petone Beach Kindergarten for kai (whakanoa\, wh
 ich is within walking distance)\, 27 King Street.\nProgramme begins with i
  te rā tamariki. All age ranges of our community - whanaungatanga connect
 ing all parts of our hāpori (community). Attendees bring themselves.\nEma
 il address for event enquiries: louana.fruean@wmkindergartens.org.nz\nEven
 t location: Wainuiomata
URL:https://huttcity.events.mylibrary.digital/event?id=172148
DTSTART;TZID=Pacific/Auckland:20260709T083000
DTEND;TZID=Pacific/Auckland:20260711T162500
LOCATION:Petone Foreshore\, The Esplanade & Cuba Streets\, Petone  Lower Hu
 tt
END:VEVENT
BEGIN:VTIMEZONE
TZID:Pacific/Auckland
BEGIN:STANDARD
DTSTART:20200501T000000
TZNAME:NZST
TZOFFSETTO:+1200
TZOFFSETFROM:+1200
END:STANDARD
BEGIN:DAYLIGHT
DTSTART:20200927T030000
TZNAME:NZDT
TZOFFSETTO:+1300
TZOFFSETFROM:+1200
END:DAYLIGHT
BEGIN:STANDARD
DTSTART:20210404T020000
TZNAME:NZST
TZOFFSETTO:+1200
TZOFFSETFROM:+1300
END:STANDARD
BEGIN:DAYLIGHT
DTSTART:20210926T030000
TZNAME:NZDT
TZOFFSETTO:+1300
TZOFFSETFROM:+1200
END:DAYLIGHT
BEGIN:STANDARD
DTSTART:20220403T020000
TZNAME:NZST
TZOFFSETTO:+1200
TZOFFSETFROM:+1300
END:STANDARD
BEGIN:DAYLIGHT
DTSTART:20220925T030000
TZNAME:NZDT
TZOFFSETTO:+1300
TZOFFSETFROM:+1200
END:DAYLIGHT
BEGIN:STANDARD
DTSTART:20230402T020000
TZNAME:NZST
TZOFFSETTO:+1200
TZOFFSETFROM:+1300
END:STANDARD
BEGIN:DAYLIGHT
DTSTART:20230924T030000
TZNAME:NZDT
TZOFFSETTO:+1300
TZOFFSETFROM:+1200
END:DAYLIGHT
BEGIN:STANDARD
DTSTART:20240407T020000
TZNAME:NZST
TZOFFSETTO:+1200
TZOFFSETFROM:+1300
END:STANDARD
BEGIN:DAYLIGHT
DTSTART:20240929T030000
TZNAME:NZDT
TZOFFSETTO:+1300
TZOFFSETFROM:+1200
END:DAYLIGHT
BEGIN:STANDARD
DTSTART:20250406T020000
TZNAME:NZST
TZOFFSETTO:+1200
TZOFFSETFROM:+1300
END:STANDARD
BEGIN:DAYLIGHT
DTSTART:20250928T030000
TZNAME:NZDT
TZOFFSETTO:+1300
TZOFFSETFROM:+1200
END:DAYLIGHT
BEGIN:STANDARD
DTSTART:20260405T020000
TZNAME:NZST
TZOFFSETTO:+1200
TZOFFSETFROM:+1300
END:STANDARD
BEGIN:DAYLIGHT
DTSTART:20260927T030000
TZNAME:NZDT
TZOFFSETTO:+1300
TZOFFSETFROM:+1200
END:DAYLIGHT
BEGIN:STANDARD
DTSTART:20270404T020000
TZNAME:NZST
TZOFFSETTO:+1200
TZOFFSETFROM:+1300
END:STANDARD
BEGIN:DAYLIGHT
DTSTART:20270926T030000
TZNAME:NZDT
TZOFFSETTO:+1300
TZOFFSETFROM:+1200
END:DAYLIGHT
BEGIN:STANDARD
DTSTART:20280402T020000
TZNAME:NZST
TZOFFSETTO:+1200
TZOFFSETFROM:+1300
END:STANDARD
BEGIN:DAYLIGHT
DTSTART:20280924T030000
TZNAME:NZDT
TZOFFSETTO:+1300
TZOFFSETFROM:+1200
END:DAYLIGHT
BEGIN:STANDARD
DTSTART:20290401T020000
TZNAME:NZST
TZOFFSETTO:+1200
TZOFFSETFROM:+1300
END:STANDARD
BEGIN:DAYLIGHT
DTSTART:20290930T030000
TZNAME:NZDT
TZOFFSETTO:+1300
TZOFFSETFROM:+1200
END:DAYLIGHT
BEGIN:STANDARD
DTSTART:20300407T020000
TZNAME:NZST
TZOFFSETTO:+1200
TZOFFSETFROM:+1300
END:STANDARD
BEGIN:DAYLIGHT
DTSTART:20300929T030000
TZNAME:NZDT
TZOFFSETTO:+1300
TZOFFSETFROM:+1200
END:DAYLIGHT
BEGIN:STANDARD
DTSTART:20310406T020000
TZNAME:NZST
TZOFFSETTO:+1200
TZOFFSETFROM:+1300
END:STANDARD
BEGIN:DAYLIGHT
DTSTART:20310928T030000
TZNAME:NZDT
TZOFFSETTO:+1300
TZOFFSETFROM:+1200
END:DAYLIGHT
BEGIN:STANDARD
DTSTART:20320404T020000
TZNAME:NZST
TZOFFSETTO:+1200
TZOFFSETFROM:+1300
END:STANDARD
BEGIN:DAYLIGHT
DTSTART:20320926T030000
TZNAME:NZDT
TZOFFSETTO:+1300
TZOFFSETFROM:+1200
END:DAYLIGHT
BEGIN:STANDARD
DTSTART:20330403T020000
TZNAME:NZST
TZOFFSETTO:+1200
TZOFFSETFROM:+1300
END:STANDARD
BEGIN:DAYLIGHT
DTSTART:20330925T030000
TZNAME:NZDT
TZOFFSETTO:+1300
TZOFFSETFROM:+1200
END:DAYLIGHT
BEGIN:STANDARD
DTSTART:20340402T020000
TZNAME:NZST
TZOFFSETTO:+1200
TZOFFSETFROM:+1300
END:STANDARD
BEGIN:DAYLIGHT
DTSTART:20340924T030000
TZNAME:NZDT
TZOFFSETTO:+1300
TZOFFSETFROM:+1200
END:DAYLIGHT
BEGIN:STANDARD
DTSTART:20350401T020000
TZNAME:NZST
TZOFFSETTO:+1200
TZOFFSETFROM:+1300
END:STANDARD
BEGIN:DAYLIGHT
DTSTART:20350930T030000
TZNAME:NZDT
TZOFFSETTO:+1300
TZOFFSETFROM:+1200
END:DAYLIGHT
BEGIN:STANDARD
DTSTART:20360406T020000
TZNAME:NZST
TZOFFSETTO:+1200
TZOFFSETFROM:+1300
END:STANDARD
BEGIN:DAYLIGHT
DTSTART:20360928T030000
TZNAME:NZDT
TZOFFSETTO:+1300
TZOFFSETFROM:+1200
END:DAYLIGHT
BEGIN:STANDARD
DTSTART:20370405T020000
TZNAME:NZST
TZOFFSETTO:+1200
TZOFFSETFROM:+1300
END:STANDARD
BEGIN:DAYLIGHT
DTSTART:20370927T030000
TZNAME:NZDT
TZOFFSETTO:+1300
TZOFFSETFROM:+1200
END:DAYLIGHT
BEGIN:STANDARD
DTSTART:20380404T020000
TZNAME:NZST
TZOFFSETTO:+1200
TZOFFSETFROM:+1300
END:STANDARD
BEGIN:DAYLIGHT
DTSTART:20380926T030000
TZNAME:NZDT
TZOFFSETTO:+1300
TZOFFSETFROM:+1200
END:DAYLIGHT
BEGIN:STANDARD
DTSTART:20390403T020000
TZNAME:NZST
TZOFFSETTO:+1200
TZOFFSETFROM:+1300
END:STANDARD
BEGIN:DAYLIGHT
DTSTART:20390925T030000
TZNAME:NZDT
TZOFFSETTO:+1300
TZOFFSETFROM:+1200
END:DAYLIGHT
BEGIN:STANDARD
DTSTART:20400401T020000
TZNAME:NZST
TZOFFSETTO:+1200
TZOFFSETFROM:+1300
END:STANDARD
BEGIN:DAYLIGHT
DTSTART:20400930T030000
TZNAME:NZDT
TZOFFSETTO:+1300
TZOFFSETFROM:+1200
END:DAYLIGHT
BEGIN:STANDARD
DTSTART:20410407T020000
TZNAME:NZST
TZOFFSETTO:+1200
TZOFFSETFROM:+1300
END:STANDARD
BEGIN:DAYLIGHT
DTSTART:20410929T030000
TZNAME:NZDT
TZOFFSETTO:+1300
TZOFFSETFROM:+1200
END:DAYLIGHT
BEGIN:STANDARD
DTSTART:20420406T020000
TZNAME:NZST
TZOFFSETTO:+1200
TZOFFSETFROM:+1300
END:STANDARD
BEGIN:DAYLIGHT
DTSTART:20420928T030000
TZNAME:NZDT
TZOFFSETTO:+1300
TZOFFSETFROM:+1200
END:DAYLIGHT
BEGIN:STANDARD
DTSTART:20430405T020000
TZNAME:NZST
TZOFFSETTO:+1200
TZOFFSETFROM:+1300
END:STANDARD
BEGIN:DAYLIGHT
DTSTART:20430927T030000
TZNAME:NZDT
TZOFFSETTO:+1300
TZOFFSETFROM:+1200
END:DAYLIGHT
BEGIN:STANDARD
DTSTART:20440403T020000
TZNAME:NZST
TZOFFSETTO:+1200
TZOFFSETFROM:+1300
END:STANDARD
BEGIN:DAYLIGHT
DTSTART:20440925T030000
TZNAME:NZDT
TZOFFSETTO:+1300
TZOFFSETFROM:+1200
END:DAYLIGHT
BEGIN:STANDARD
DTSTART:20450402T020000
TZNAME:NZST
TZOFFSETTO:+1200
TZOFFSETFROM:+1300
END:STANDARD
BEGIN:DAYLIGHT
DTSTART:20450924T030000
TZNAME:NZDT
TZOFFSETTO:+1300
TZOFFSETFROM:+1200
END:DAYLIGHT
BEGIN:STANDARD
DTSTART:20460401T020000
TZNAME:NZST
TZOFFSETTO:+1200
TZOFFSETFROM:+1300
END:STANDARD
BEGIN:DAYLIGHT
DTSTART:20460930T030000
TZNAME:NZDT
TZOFFSETTO:+1300
TZOFFSETFROM:+1200
END:DAYLIGHT
BEGIN:STANDARD
DTSTART:20470407T020000
TZNAME:NZST
TZOFFSETTO:+1200
TZOFFSETFROM:+1300
END:STANDARD
BEGIN:DAYLIGHT
DTSTART:20470929T030000
TZNAME:NZDT
TZOFFSETTO:+1300
TZOFFSETFROM:+1200
END:DAYLIGHT
BEGIN:STANDARD
DTSTART:20480405T020000
TZNAME:NZST
TZOFFSETTO:+1200
TZOFFSETFROM:+1300
END:STANDARD
BEGIN:DAYLIGHT
DTSTART:20480927T030000
TZNAME:NZDT
TZOFFSETTO:+1300
TZOFFSETFROM:+1200
END:DAYLIGHT
BEGIN:STANDARD
DTSTART:20490404T020000
TZNAME:NZST
TZOFFSETTO:+1200
TZOFFSETFROM:+1300
END:STANDARD
BEGIN:DAYLIGHT
DTSTART:20490926T030000
TZNAME:NZDT
TZOFFSETTO:+1300
TZOFFSETFROM:+1200
END:DAYLIGHT
BEGIN:STANDARD
DTSTART:20500403T020000
TZNAME:NZST
TZOFFSETTO:+1200
TZOFFSETFROM:+1300
END:STANDARD
BEGIN:DAYLIGHT
DTSTART:20500925T030000
TZNAME:NZDT
TZOFFSETTO:+1300
TZOFFSETFROM:+1200
END:DAYLIGHT
BEGIN:STANDARD
DTSTART:20510402T020000
TZNAME:NZST
TZOFFSETTO:+1200
TZOFFSETFROM:+1300
END:STANDARD
BEGIN:DAYLIGHT
DTSTART:20510924T030000
TZNAME:NZDT
TZOFFSETTO:+1300
TZOFFSETFROM:+1200
END:DAYLIGHT
BEGIN:STANDARD
DTSTART:20520407T020000
TZNAME:NZST
TZOFFSETTO:+1200
TZOFFSETFROM:+1300
END:STANDARD
BEGIN:DAYLIGHT
DTSTART:20520929T030000
TZNAME:NZDT
TZOFFSETTO:+1300
TZOFFSETFROM:+1200
END:DAYLIGHT
BEGIN:STANDARD
DTSTART:20530406T020000
TZNAME:NZST
TZOFFSETTO:+1200
TZOFFSETFROM:+1300
END:STANDARD
BEGIN:DAYLIGHT
DTSTART:20530928T030000
TZNAME:NZDT
TZOFFSETTO:+1300
TZOFFSETFROM:+1200
END:DAYLIGHT
BEGIN:STANDARD
DTSTART:20540405T020000
TZNAME:NZST
TZOFFSETTO:+1200
TZOFFSETFROM:+1300
END:STANDARD
BEGIN:DAYLIGHT
DTSTART:20540927T030000
TZNAME:NZDT
TZOFFSETTO:+1300
TZOFFSETFROM:+1200
END:DAYLIGHT
BEGIN:STANDARD
DTSTART:20550404T020000
TZNAME:NZST
TZOFFSETTO:+1200
TZOFFSETFROM:+1300
END:STANDARD
BEGIN:DAYLIGHT
DTSTART:20550926T030000
TZNAME:NZDT
TZOFFSETTO:+1300
TZOFFSETFROM:+1200
END:DAYLIGHT
BEGIN:STANDARD
DTSTART:20560402T020000
TZNAME:NZST
TZOFFSETTO:+1200
TZOFFSETFROM:+1300
END:STANDARD
BEGIN:DAYLIGHT
DTSTART:20560924T030000
TZNAME:NZDT
TZOFFSETTO:+1300
TZOFFSETFROM:+1200
END:DAYLIGHT
BEGIN:STANDARD
DTSTART:20570401T020000
TZNAME:NZST
TZOFFSETTO:+1200
TZOFFSETFROM:+1300
END:STANDARD
BEGIN:DAYLIGHT
DTSTART:20570930T030000
TZNAME:NZDT
TZOFFSETTO:+1300
TZOFFSETFROM:+1200
END:DAYLIGHT
BEGIN:STANDARD
DTSTART:20580407T020000
TZNAME:NZST
TZOFFSETTO:+1200
TZOFFSETFROM:+1300
END:STANDARD
BEGIN:DAYLIGHT
DTSTART:20580929T030000
TZNAME:NZDT
TZOFFSETTO:+1300
TZOFFSETFROM:+1200
END:DAYLIGHT
BEGIN:STANDARD
DTSTART:20590406T020000
TZNAME:NZST
TZOFFSETTO:+1200
TZOFFSETFROM:+1300
END:STANDARD
BEGIN:DAYLIGHT
DTSTART:20590928T030000
TZNAME:NZDT
TZOFFSETTO:+1300
TZOFFSETFROM:+1200
END:DAYLIGHT
BEGIN:STANDARD
DTSTART:20600404T020000
TZNAME:NZST
TZOFFSETTO:+1200
TZOFFSETFROM:+1300
END:STANDARD
BEGIN:DAYLIGHT
DTSTART:20600926T030000
TZNAME:NZDT
TZOFFSETTO:+1300
TZOFFSETFROM:+1200
END:DAYLIGHT
BEGIN:STANDARD
DTSTART:20610403T020000
TZNAME:NZST
TZOFFSETTO:+1200
TZOFFSETFROM:+1300
END:STANDARD
BEGIN:DAYLIGHT
DTSTART:20610925T030000
TZNAME:NZDT
TZOFFSETTO:+1300
TZOFFSETFROM:+1200
END:DAYLIGHT
BEGIN:STANDARD
DTSTART:20620402T020000
TZNAME:NZST
TZOFFSETTO:+1200
TZOFFSETFROM:+1300
END:STANDARD
BEGIN:DAYLIGHT
DTSTART:20620924T030000
TZNAME:NZDT
TZOFFSETTO:+1300
TZOFFSETFROM:+1200
END:DAYLIGHT
BEGIN:STANDARD
DTSTART:20630401T020000
TZNAME:NZST
TZOFFSETTO:+1200
TZOFFSETFROM:+1300
END:STANDARD
BEGIN:DAYLIGHT
DTSTART:20630930T030000
TZNAME:NZDT
TZOFFSETTO:+1300
TZOFFSETFROM:+1200
END:DAYLIGHT
BEGIN:STANDARD
DTSTART:20640406T020000
TZNAME:NZST
TZOFFSETTO:+1200
TZOFFSETFROM:+1300
END:STANDARD
BEGIN:DAYLIGHT
DTSTART:20640928T030000
TZNAME:NZDT
TZOFFSETTO:+1300
TZOFFSETFROM:+1200
END:DAYLIGHT
BEGIN:STANDARD
DTSTART:20650405T020000
TZNAME:NZST
TZOFFSETTO:+1200
TZOFFSETFROM:+1300
END:STANDARD
BEGIN:DAYLIGHT
DTSTART:20650927T030000
TZNAME:NZDT
TZOFFSETTO:+1300
TZOFFSETFROM:+1200
END:DAYLIGHT
BEGIN:STANDARD
DTSTART:20660404T020000
TZNAME:NZST
TZOFFSETTO:+1200
TZOFFSETFROM:+1300
END:STANDARD
BEGIN:DAYLIGHT
DTSTART:20660926T030000
TZNAME:NZDT
TZOFFSETTO:+1300
TZOFFSETFROM:+1200
END:DAYLIGHT
BEGIN:STANDARD
DTSTART:20670403T020000
TZNAME:NZST
TZOFFSETTO:+1200
TZOFFSETFROM:+1300
END:STANDARD
BEGIN:DAYLIGHT
DTSTART:20670925T030000
TZNAME:NZDT
TZOFFSETTO:+1300
TZOFFSETFROM:+1200
END:DAYLIGHT
BEGIN:STANDARD
DTSTART:20680401T020000
TZNAME:NZST
TZOFFSETTO:+1200
TZOFFSETFROM:+1300
END:STANDARD
BEGIN:DAYLIGHT
DTSTART:20680930T030000
TZNAME:NZDT
TZOFFSETTO:+1300
TZOFFSETFROM:+1200
END:DAYLIGHT
BEGIN:STANDARD
DTSTART:20690407T020000
TZNAME:NZST
TZOFFSETTO:+1200
TZOFFSETFROM:+1300
END:STANDARD
BEGIN:DAYLIGHT
DTSTART:20690929T030000
TZNAME:NZDT
TZOFFSETTO:+1300
TZOFFSETFROM:+1200
END:DAYLIGHT
BEGIN:STANDARD
DTSTART:20700406T020000
TZNAME:NZST
TZOFFSETTO:+1200
TZOFFSETFROM:+1300
END:STANDARD
BEGIN:DAYLIGHT
DTSTART:20700928T030000
TZNAME:NZDT
TZOFFSETTO:+1300
TZOFFSETFROM:+1200
END:DAYLIGHT
BEGIN:STANDARD
DTSTART:20710405T020000
TZNAME:NZST
TZOFFSETTO:+1200
TZOFFSETFROM:+1300
END:STANDARD
BEGIN:DAYLIGHT
DTSTART:20710927T030000
TZNAME:NZDT
TZOFFSETTO:+1300
TZOFFSETFROM:+1200
END:DAYLIGHT
BEGIN:STANDARD
DTSTART:20720403T020000
TZNAME:NZST
TZOFFSETTO:+1200
TZOFFSETFROM:+1300
END:STANDARD
BEGIN:DAYLIGHT
DTSTART:20720925T030000
TZNAME:NZDT
TZOFFSETTO:+1300
TZOFFSETFROM:+1200
END:DAYLIGHT
BEGIN:STANDARD
DTSTART:20730402T020000
TZNAME:NZST
TZOFFSETTO:+1200
TZOFFSETFROM:+1300
END:STANDARD
BEGIN:DAYLIGHT
DTSTART:20730924T030000
TZNAME:NZDT
TZOFFSETTO:+1300
TZOFFSETFROM:+1200
END:DAYLIGHT
BEGIN:STANDARD
DTSTART:20740401T020000
TZNAME:NZST
TZOFFSETTO:+1200
TZOFFSETFROM:+1300
END:STANDARD
BEGIN:DAYLIGHT
DTSTART:20740930T030000
TZNAME:NZDT
TZOFFSETTO:+1300
TZOFFSETFROM:+1200
END:DAYLIGHT
BEGIN:STANDARD
DTSTART:20750407T020000
TZNAME:NZST
TZOFFSETTO:+1200
TZOFFSETFROM:+1300
END:STANDARD
BEGIN:DAYLIGHT
DTSTART:20750929T030000
TZNAME:NZDT
TZOFFSETTO:+1300
TZOFFSETFROM:+1200
END:DAYLIGHT
BEGIN:STANDARD
DTSTART:20760405T020000
TZNAME:NZST
TZOFFSETTO:+1200
TZOFFSETFROM:+1300
END:STANDARD
BEGIN:DAYLIGHT
DTSTART:20760927T030000
TZNAME:NZDT
TZOFFSETTO:+1300
TZOFFSETFROM:+1200
END:DAYLIGHT
BEGIN:STANDARD
DTSTART:20770404T020000
TZNAME:NZST
TZOFFSETTO:+1200
TZOFFSETFROM:+1300
END:STANDARD
BEGIN:DAYLIGHT
DTSTART:20770926T030000
TZNAME:NZDT
TZOFFSETTO:+1300
TZOFFSETFROM:+1200
END:DAYLIGHT
BEGIN:STANDARD
DTSTART:20780403T020000
TZNAME:NZST
TZOFFSETTO:+1200
TZOFFSETFROM:+1300
END:STANDARD
BEGIN:DAYLIGHT
DTSTART:20780925T030000
TZNAME:NZDT
TZOFFSETTO:+1300
TZOFFSETFROM:+1200
END:DAYLIGHT
BEGIN:STANDARD
DTSTART:20790402T020000
TZNAME:NZST
TZOFFSETTO:+1200
TZOFFSETFROM:+1300
END:STANDARD
BEGIN:DAYLIGHT
DTSTART:20790924T030000
TZNAME:NZDT
TZOFFSETTO:+1300
TZOFFSETFROM:+1200
END:DAYLIGHT
BEGIN:STANDARD
DTSTART:20800407T020000
TZNAME:NZST
TZOFFSETTO:+1200
TZOFFSETFROM:+1300
END:STANDARD
BEGIN:DAYLIGHT
DTSTART:20800929T030000
TZNAME:NZDT
TZOFFSETTO:+1300
TZOFFSETFROM:+1200
END:DAYLIGHT
BEGIN:STANDARD
DTSTART:20810406T020000
TZNAME:NZST
TZOFFSETTO:+1200
TZOFFSETFROM:+1300
END:STANDARD
BEGIN:DAYLIGHT
DTSTART:20810928T030000
TZNAME:NZDT
TZOFFSETTO:+1300
TZOFFSETFROM:+1200
END:DAYLIGHT
BEGIN:STANDARD
DTSTART:20820405T020000
TZNAME:NZST
TZOFFSETTO:+1200
TZOFFSETFROM:+1300
END:STANDARD
BEGIN:DAYLIGHT
DTSTART:20820927T030000
TZNAME:NZDT
TZOFFSETTO:+1300
TZOFFSETFROM:+1200
END:DAYLIGHT
BEGIN:STANDARD
DTSTART:20830404T020000
TZNAME:NZST
TZOFFSETTO:+1200
TZOFFSETFROM:+1300
END:STANDARD
BEGIN:DAYLIGHT
DTSTART:20830926T030000
TZNAME:NZDT
TZOFFSETTO:+1300
TZOFFSETFROM:+1200
END:DAYLIGHT
BEGIN:STANDARD
DTSTART:20840402T020000
TZNAME:NZST
TZOFFSETTO:+1200
TZOFFSETFROM:+1300
END:STANDARD
BEGIN:DAYLIGHT
DTSTART:20840924T030000
TZNAME:NZDT
TZOFFSETTO:+1300
TZOFFSETFROM:+1200
END:DAYLIGHT
BEGIN:STANDARD
DTSTART:20850401T020000
TZNAME:NZST
TZOFFSETTO:+1200
TZOFFSETFROM:+1300
END:STANDARD
BEGIN:DAYLIGHT
DTSTART:20850930T030000
TZNAME:NZDT
TZOFFSETTO:+1300
TZOFFSETFROM:+1200
END:DAYLIGHT
BEGIN:STANDARD
DTSTART:20860407T020000
TZNAME:NZST
TZOFFSETTO:+1200
TZOFFSETFROM:+1300
END:STANDARD
BEGIN:DAYLIGHT
DTSTART:20860929T030000
TZNAME:NZDT
TZOFFSETTO:+1300
TZOFFSETFROM:+1200
END:DAYLIGHT
BEGIN:STANDARD
DTSTART:20870406T020000
TZNAME:NZST
TZOFFSETTO:+1200
TZOFFSETFROM:+1300
END:STANDARD
BEGIN:DAYLIGHT
DTSTART:20870928T030000
TZNAME:NZDT
TZOFFSETTO:+1300
TZOFFSETFROM:+1200
END:DAYLIGHT
BEGIN:STANDARD
DTSTART:20880404T020000
TZNAME:NZST
TZOFFSETTO:+1200
TZOFFSETFROM:+1300
END:STANDARD
BEGIN:DAYLIGHT
DTSTART:20880926T030000
TZNAME:NZDT
TZOFFSETTO:+1300
TZOFFSETFROM:+1200
END:DAYLIGHT
BEGIN:STANDARD
DTSTART:20890403T020000
TZNAME:NZST
TZOFFSETTO:+1200
TZOFFSETFROM:+1300
END:STANDARD
BEGIN:DAYLIGHT
DTSTART:20890925T030000
TZNAME:NZDT
TZOFFSETTO:+1300
TZOFFSETFROM:+1200
END:DAYLIGHT
BEGIN:STANDARD
DTSTART:20900402T020000
TZNAME:NZST
TZOFFSETTO:+1200
TZOFFSETFROM:+1300
END:STANDARD
BEGIN:DAYLIGHT
DTSTART:20900924T030000
TZNAME:NZDT
TZOFFSETTO:+1300
TZOFFSETFROM:+1200
END:DAYLIGHT
BEGIN:STANDARD
DTSTART:20910401T020000
TZNAME:NZST
TZOFFSETTO:+1200
TZOFFSETFROM:+1300
END:STANDARD
BEGIN:DAYLIGHT
DTSTART:20910930T030000
TZNAME:NZDT
TZOFFSETTO:+1300
TZOFFSETFROM:+1200
END:DAYLIGHT
BEGIN:STANDARD
DTSTART:20920406T020000
TZNAME:NZST
TZOFFSETTO:+1200
TZOFFSETFROM:+1300
END:STANDARD
BEGIN:DAYLIGHT
DTSTART:20920928T030000
TZNAME:NZDT
TZOFFSETTO:+1300
TZOFFSETFROM:+1200
END:DAYLIGHT
BEGIN:STANDARD
DTSTART:20930405T020000
TZNAME:NZST
TZOFFSETTO:+1200
TZOFFSETFROM:+1300
END:STANDARD
BEGIN:DAYLIGHT
DTSTART:20930927T030000
TZNAME:NZDT
TZOFFSETTO:+1300
TZOFFSETFROM:+1200
END:DAYLIGHT
BEGIN:STANDARD
DTSTART:20940404T020000
TZNAME:NZST
TZOFFSETTO:+1200
TZOFFSETFROM:+1300
END:STANDARD
BEGIN:DAYLIGHT
DTSTART:20940926T030000
TZNAME:NZDT
TZOFFSETTO:+1300
TZOFFSETFROM:+1200
END:DAYLIGHT
BEGIN:STANDARD
DTSTART:20950403T020000
TZNAME:NZST
TZOFFSETTO:+1200
TZOFFSETFROM:+1300
END:STANDARD
BEGIN:DAYLIGHT
DTSTART:20950925T030000
TZNAME:NZDT
TZOFFSETTO:+1300
TZOFFSETFROM:+1200
END:DAYLIGHT
BEGIN:STANDARD
DTSTART:20960401T020000
TZNAME:NZST
TZOFFSETTO:+1200
TZOFFSETFROM:+1300
END:STANDARD
BEGIN:DAYLIGHT
DTSTART:20960930T030000
TZNAME:NZDT
TZOFFSETTO:+1300
TZOFFSETFROM:+1200
END:DAYLIGHT
BEGIN:STANDARD
DTSTART:20970407T020000
TZNAME:NZST
TZOFFSETTO:+1200
TZOFFSETFROM:+1300
END:STANDARD
BEGIN:DAYLIGHT
DTSTART:20970929T030000
TZNAME:NZDT
TZOFFSETTO:+1300
TZOFFSETFROM:+1200
END:DAYLIGHT
BEGIN:STANDARD
DTSTART:20980406T020000
TZNAME:NZST
TZOFFSETTO:+1200
TZOFFSETFROM:+1300
END:STANDARD
BEGIN:DAYLIGHT
DTSTART:20980928T030000
TZNAME:NZDT
TZOFFSETTO:+1300
TZOFFSETFROM:+1200
END:DAYLIGHT
BEGIN:STANDARD
DTSTART:20990405T020000
TZNAME:NZST
TZOFFSETTO:+1200
TZOFFSETFROM:+1300
END:STANDARD
BEGIN:DAYLIGHT
DTSTART:20990927T030000
TZNAME:NZDT
TZOFFSETTO:+1300
TZOFFSETFROM:+1200
END:DAYLIGHT
END:VTIMEZONE
END:VCALENDAR
